BEGIN:VCALENDAR
VERSION:2.0
PRODID:-//eventibg.com//Events//BG
CALSCALE:GREGORIAN
METHOD:PUBLISH
BEGIN:VEVENT
UID:zelen-zelen-gerg-ovden@eventibg.com
DTSTART:20260506T090000
DTEND:20260506T220000
SUMMARY: Зелен\, зелен Гергьовден
DESCRIPTION:
LOCATION:Могила
URL:https://eventibg.com/event/zelen-zelen-gerg-ovden
END:VEVENT
END:VCALENDAR
