BEGIN:VCALENDAR
VERSION:2.0
PRODID:-//eventibg.com//Events//BG
CALSCALE:GREGORIAN
METHOD:PUBLISH
BEGIN:VEVENT
UID:traditsionen-obshchoselski-s-bor@eventibg.com
DTSTART:20260430T100000
DTEND:20260430T220000
SUMMARY: Традиционен общоселски събор
DESCRIPTION:
LOCATION:Черничево
URL:https://eventibg.com/event/traditsionen-obshchoselski-s-bor
END:VEVENT
END:VCALENDAR
