BEGIN:VCALENDAR
VERSION:2.0
PRODID:-//eventibg.com//Events//BG
CALSCALE:GREGORIAN
METHOD:PUBLISH
BEGIN:VEVENT
UID:s-bor-21@eventibg.com
DTSTART:20260502T150000
DTEND:20260502T220000
SUMMARY:Събор
DESCRIPTION:
LOCATION:Черногор
URL:https://eventibg.com/event/s-bor-21
END:VEVENT
END:VCALENDAR
