BEGIN:VCALENDAR
VERSION:2.0
PRODID:-//eventibg.com//Events//BG
CALSCALE:GREGORIAN
METHOD:PUBLISH
BEGIN:VEVENT
UID:praznika-na-zlatogradskoto-cheverme@eventibg.com
DTSTART:20260501T100000
DTEND:20260602T220000
SUMMARY: Празника на Златоградското чеверме 
DESCRIPTION:
LOCATION:Златоград
URL:https://eventibg.com/event/praznika-na-zlatogradskoto-cheverme
END:VEVENT
END:VCALENDAR
