BEGIN:VCALENDAR
VERSION:2.0
PRODID:-//eventibg.com//Events//BG
CALSCALE:GREGORIAN
METHOD:PUBLISH
BEGIN:VEVENT
UID:praznik-na-kachamaka@eventibg.com
DTSTART:20260509T110000
DTEND:20260509T220000
SUMMARY: Празник на качамака
DESCRIPTION:
LOCATION:Кирково
URL:https://eventibg.com/event/praznik-na-kachamaka
END:VEVENT
END:VCALENDAR
