BEGIN:VCALENDAR
VERSION:2.0
PRODID:-//eventibg.com//Events//BG
CALSCALE:GREGORIAN
METHOD:PUBLISH
BEGIN:VEVENT
UID:natsionalen-s-bor-na-zemyata-i-plodorodieto@eventibg.com
DTSTART:20260430T100000
DTEND:20260430T220000
SUMMARY: Национален събор на земята и плодородието
DESCRIPTION:
LOCATION:Голямо Асеново
URL:https://eventibg.com/event/natsionalen-s-bor-na-zemyata-i-plodorodieto
END:VEVENT
END:VCALENDAR
