BEGIN:VCALENDAR
VERSION:2.0
PRODID:-//eventibg.com//Events//BG
CALSCALE:GREGORIAN
METHOD:PUBLISH
BEGIN:VEVENT
UID:natsionalen-folkloren-festival-kostandovo-2026@eventibg.com
DTSTART:20260515T200000
DTEND:20260517T220000
SUMMARY: Национален фолклорен фестивал "Костандово" 2026
DESCRIPTION:
LOCATION:Костандово
URL:https://eventibg.com/event/natsionalen-folkloren-festival-kostandovo-2026
END:VEVENT
END:VCALENDAR
