BEGIN:VCALENDAR
VERSION:2.0
PRODID:-//eventibg.com//Events//BG
CALSCALE:GREGORIAN
METHOD:PUBLISH
BEGIN:VEVENT
UID:gerg-ovski-ritmi-i-gozbi-v-v-voluyak-2026@eventibg.com
DTSTART:20260506T110000
DTEND:20260506T220000
SUMMARY: Гергьовски ритми и гозби във Волуяк 2026
DESCRIPTION:
LOCATION:Волуяк
URL:https://eventibg.com/event/gerg-ovski-ritmi-i-gozbi-v-v-voluyak-2026
END:VEVENT
END:VCALENDAR
