BEGIN:VCALENDAR
VERSION:2.0
PRODID:-//eventibg.com//Events//BG
CALSCALE:GREGORIAN
METHOD:PUBLISH
BEGIN:VEVENT
UID:folkloren-gerg-ovski-s-bor@eventibg.com
DTSTART:20260502T103000
DTEND:20260502T220000
SUMMARY: ФОЛКЛОРЕН ГЕРГЬОВСКИ СЪБОР
DESCRIPTION:
LOCATION:Капитан Андреево
URL:https://eventibg.com/event/folkloren-gerg-ovski-s-bor
END:VEVENT
END:VCALENDAR
