BEGIN:VCALENDAR
VERSION:2.0
PRODID:-//eventibg.com//Events//BG
CALSCALE:GREGORIAN
METHOD:PUBLISH
BEGIN:VEVENT
UID:esenen-praznik-i-kulinarna-nadprevara@eventibg.com
DTSTART:20261017T100000
DTEND:20261017T220000
SUMMARY: Есенен празник и кулинарна надпревара
DESCRIPTION:
LOCATION:Дълбок Извор
URL:https://eventibg.com/event/esenen-praznik-i-kulinarna-nadprevara
END:VEVENT
END:VCALENDAR
